Workbook

Sheet エントリーについて
A1: ARES サステナビリティアワード 2026へのエントリーにあたり下記をご確認の上、資料のご提出をお願いいたします。
A2: ・エントリーは投資法人単位とし、1投資法人につき1回エントリーが可能です。
A3: ・1投資法人で環境・社会両部門1件ずつ、最大2件エントリーできます。再エントリーの提出も含めて、提出方法は下記注釈に記載の8パターンとなります。
A4: ・本年から、ご応募いただいた事例をARESホームページで「取組み事例」として紹介する予定です。受賞例以外も紹介することについてご了承の上、ご応募ください。
A5: ・エントリー時に投資法人のロゴもご提出ください。後日、事例シート等に投資法人のロゴを掲載させていただく予定です。
A6: ・ARES ESG AWARDの過去受賞事例と全く同一内容のご応募はお控え下さい。
A7: ・特定の物件でしか行えない個別性の高い取組は、普遍性の観点等から応募は極力お控えください。
A8: ・エントリー締め切りは2026年12月7日（月曜日）となります。期日までに資料のご提出をお願いいたします。
A9: ARES サステナビリティアワード 2026のエントリーシートは下記の5つのシートで構成されております。
A10: 下記表の回答範囲に合わせ、シートの必須記入欄に記入いただき、ご提出ください。
A11: シート名 | B11: 回答範囲 | C11: 参考資料 | D11: ご記入いただきたい事項
A12: 基本情報 | B12: 必須 | C12: 提出不可 | D12: 投資法人名、ご担当者様名等、貴社の基礎的な情報についてご記載ください。
A13: １.回答票（環境価値創出） | B13: いずれか必須 （両方とも回答も可） | C13: 提出可 | D13: 自社の環境価値につながる取組みについて、１つご記入ください。
A14: ２.回答票（社会価値創出） | C14: 提出可 | D14: 自社の社会価値につながる取組みについて、１つご記入ください。
A15: ３.回答票(再エントリー/環境) | B15: 過去エントリー事例を再エントリーする場合に使用してください。 | C15: 提出可 | D15: 過去に応募した自社の取組みを再エントリーする場合、当該シートに１つご記入ください。過去エントリーしたものでも、継続または発展させて価値ある取組みになっているものは審査対象となります。
A16: ４.回答票(再エントリー/社会)
A17: ５.他社事例共有シート | B17: 任意記述 | C17: 提出不可 | D17: 業界全体に共有したい他社の事例があれば、理由とともに内容を記載してください。
A19: 入力完了後事務局へご提出ください ※提出期限2026年12月7日（月曜日）
A20: ①本エントリーシート
A21: ファイル名：投資法人名_エントリーシート
A22: （例：ABC投資法人_エントリーシート）
A23: ②参考資料
A24: ファイル名：投資法人名_環境 or 社会
A25: （例：ABC投資法人_環境）
A26: ③投資法人ロゴ （ファイル名：投資法人名_ロゴ）
A27: ④掲載写真（任意）
A29: 【提出先】 下記BOX（URL）へ格納ください https://funaisoken.app.box.com/f/d6158ad6f4374be1a7af2fd10dec9c19
A31: BOXへ格納できない場合、アワード事務局アドレスまでメール添付でご送付ください。
A32: ARES サステナビリティ アワード事務局(株式会社船井総合研究所 内)：ares_esg_award@funaisoken.co.jp
A34: （注釈）エントリーのパターン

Sheet 基本情報
B2: 基本情報
B3: 以下、1~10へご回答ください。（3～10にご回答いただいた情報が、今後の本件に関するご連絡先となります。）
B4: アワードの表彰対象は、「回答票」へのご回答内容となります。
B6: 1.投資法人名（必須）
B7: ●●●投資法人
B9: 2.運用会社名（必須）
B12: 3.ご担当者１ 担当者名（必須）
B15: 4.ご担当者１ 部署名（必須）
B18: 5.ご担当者１ 役職（必須）
B21: 6.ご担当者1 メールアドレス（必須）
B24: 7.ご担当者1 電話番号（必須）
B27: 8.ご担当者2 担当者名（任意）
... B33: 10.ご担当者2 電話番号（任意）

Sheet 1.回答票（環境）
C3: 部門 | E3: 1.投資法人名 | H3: 2.取組み継続年数
C4: 環境価値創出部門 | E4: =基本情報!B7 -> ●●●投資法人 | H4: 年
C6: 3.タイトル 取組みにタイトルをつけ、ご記載ください。 | J6: (※30字程度)
J7: =LEN(C7) -> 0 | K7: :記載文字数
C9: 4.取組みの概要 取組みがどのような手法を用いて行われたのかを簡単にご記載ください。 | J9: (※200字程度)
J10: =LEN(C10) -> 0 | K10: :記載文字数
C14: 5.取組みのポイント
C15: 取組みの普遍性 取組みにおいて他のJリート各社が参考しやすい点があればご記載ください。 | J15: (※100字程度)
J16: =LEN(D15) -> 0 | K16: :記載文字数
C18: 取組みのユニーク性 本取組みならではの特徴があればご記載ください。また、本取組みの新しさ・他との差別化ポイントがあればご記載ください。 | J18: (※100字程度)
J19: =LEN(D18) -> 0 | K19: :記載文字数
C21: 取組みの継続性 取組みを継続するための運用・体制面での工夫、無理なく続けられる仕組みがあればご記載ください。 | J21: (※100字程度)
J22: =LEN(D21) -> 0 | K22: :記載文字数
C24: 取組みの実効性 取組みを行った結果、実績としてどのような成果・効果があったか、実施前後での変化があればご記載ください。また、今後期待される効果があればご記載ください。 | J24: (※100字程度)
J25: =LEN(D24) -> 0 | K25: :記載文字数

Sheet 2.回答票（社会）
C3: 部門 | E3: 1.投資法人名 | H3: 2.取組み継続年数
C4: 社会価値創出部門 | E4: =基本情報!B7 -> ●●●投資法人 | H4: 年
C6: 3.タイトル 取組みにタイトルをつけ、ご記載ください。 | J6: (※30字程度)
J7: =LEN(C7) -> 0 | K7: :記載文字数
C9: 4.取組みの概要 取組みがどのような手法を用いて行われたのかを簡単にご記載ください。 | J9: (※200字程度)
J10: =LEN(C10) -> 0 | K10: :記載文字数
C14: 5.取組みのポイント
C15: 取組みの普遍性 取組みにおいて他のJリート各社が参考しやすい点があればご記載ください。 | J15: (※100字程度)
J16: =LEN(D15) -> 0 | K16: :記載文字数
C18: 取組みのユニーク性 本取組みならではの特徴があればご記載ください。また、本取組みの新しさ・他との差別化ポイントがあればご記載ください。 | J18: (※100字程度)
J19: =LEN(D18) -> 0 | K19: :記載文字数
C21: 取組みの継続性 取組みを継続するための運用・体制面での工夫、無理なく続けられる仕組みがあればご記載ください。 | J21: (※100字程度)
J22: =LEN(D21) -> 0 | K22: :記載文字数
C24: 取組みの実効性 取組みを行った結果、実績としてどのような成果・効果があったか、実施前後での変化があればご記載ください。また、今後期待される効果があればご記載ください。 | J24: (※100字程度)
J25: =LEN(D24) -> 0 | K25: :記載文字数

Sheet 3.回答票（再エントリー環境）
C3: 再エントリー（環境部門） | E3: 1.投資法人名 | H3: 2.取組み継続年数
E4: =基本情報!B7 -> ●●●投資法人 | H4: 年
C6: 3.タイトル 過去エントリーと同様の名前を記入してください。 | J6: (※30字程度)
J7: =LEN(C7) -> 0 | K7: :記載文字数
C9: 4.取組みによる成果・効果 取組みを継続的に行った結果、実績としてどのような成果・効果があったか、これまでの変化があればご記載ください。また、今後期待される効果があればご記載ください。 | J9: (※200字程度)
J10: =LEN(C10) -> 0 | K10: :記載文字数
C14: 5.取組みのポイント 過去のエントリーで書かれた内容をもとに、適宜流用して記入してください
C15: 取組みの普遍性 取組みにおいて他のJリート各社が参考しやすい点があればご記載ください。 | J15: (※100字程度)
J16: =LEN(D15) -> 0 | K16: :記載文字数
C18: 取組みのユニーク性 本取組みならではの特徴があればご記載ください。また、本取組みの新しさ・他との差別化ポイントがあればご記載ください。 | J18: (※100字程度)
J19: =LEN(D18) -> 0 | K19: :記載文字数
C21: 取組みの継続性 取組みを継続するための運用・体制面での工夫、無理なく続けられる仕組みがあればご記載ください。 | J21: (※100字程度)
J22: =LEN(D21) -> 0 | K22: :記載文字数
C24: 取組みの実効性 取組みを行った結果、実績としてどのような成果・効果があったか、実施前後での変化があればご記載ください。また、今後期待される効果があればご記載ください。 | J24: (※100字程度)
J25: =LEN(D24) -> 0 | K25: :記載文字数

Sheet 4.回答票（再エントリー社会）
C3: 再エントリー（社会部門） | E3: 1.投資法人名 | H3: 2.取組み継続年数
E4: =基本情報!B7 -> ●●●投資法人 | H4: 年
C6: 3.タイトル 過去エントリーと同様の名前を記入してください。 | J6: (※30字程度)
J7: =LEN(C7) -> 0 | K7: :記載文字数
C9: 4.取組みによる成果・効果 取組みを継続的に行った結果、実績としてどのような成果・効果があったか、これまでの変化があればご記載ください。また、今後期待される効果があればご記載ください。 | J9: (※200字程度)
J10: =LEN(C10) -> 0 | K10: :記載文字数
C14: 5.取組みのポイント 過去のエントリーで書かれた内容をもとに、適宜流用して記入してください
C15: 取組みの普遍性 取組みにおいて他のJリート各社が参考しやすい点があればご記載ください。 | J15: (※100字程度)
J16: =LEN(D15) -> 0 | K16: :記載文字数
C18: 取組みのユニーク性 本取組みならではの特徴があればご記載ください。また、本取組みの新しさ・他との差別化ポイントがあればご記載ください。 | J18: (※100字程度)
J19: =LEN(D18) -> 0 | K19: :記載文字数
C21: 取組みの継続性 取組みを継続するための運用・体制面での工夫、無理なく続けられる仕組みがあればご記載ください。 | J21: (※100字程度)
J22: =LEN(D21) -> 0 | K22: :記載文字数
C24: 取組みの実効性 取組みを行った結果、実績としてどのような成果・効果があったか、実施前後での変化があればご記載ください。また、今後期待される効果があればご記載ください。 | J24: (※100字程度)
J25: =LEN(D24) -> 0 | K25: :記載文字数

Sheet 5.（任意記述）紹介したい他社事例共有シート
C3: 紹介したい他社事例（任意記載） | Q3: =基本情報!B7 -> ●●●投資法人
C6: 以下、1、2にご回答ください。
C7: 1.投資法人名／取組み名 | O7: （※30文字程度）
O8: =LEN(C8) -> 0 | P8: ：記載文字数
C10: 2.取組み内容と紹介したい理由
U13: （※200文字程度）
U14: =LEN(C11) -> 0 | V14: ：記載文字数
